BEGIN:VCALENDAR
VERSION:2.0
PRODID:-//Tea Trifković - ECPv5.3.0//NONSGML v1.0//EN
CALSCALE:GREGORIAN
METHOD:PUBLISH
X-WR-CALNAME:Tea Trifković
X-ORIGINAL-URL:https://teatrifkovic.com
X-WR-CALDESC:Events for Tea Trifković
BEGIN:VTIMEZONE
TZID:Europe/Zagreb
BEGIN:DAYLIGHT
TZOFFSETFROM:+0100
TZOFFSETTO:+0200
TZNAME:CEST
DTSTART:20260329T010000
END:DAYLIGHT
BEGIN:STANDARD
TZOFFSETFROM:+0200
TZOFFSETTO:+0100
TZNAME:CET
DTSTART:20261025T010000
END:STANDARD
END:VTIMEZONE
BEGIN:VEVENT
DTSTART;TZID=Europe/Zagreb:20260601T193000
DTEND;TZID=Europe/Zagreb:20260601T213000
DTSTAMP:20260423T172403
CREATED:20251215T110033Z
LAST-MODIFIED:20251223T114649Z
UID:922-1780342200-1780349400@teatrifkovic.com
SUMMARY:Der Vogelhändler (Christel)
DESCRIPTION:Operette von Carl Zeller\nLibretto von Moritz West und Ludwig Held\nHalbszenische Aufführung mit Texten von Manfred Weiß
URL:https://teatrifkovic.com/event/der-vogelhandler-christel-2/
LOCATION:Die Theater Chemnitz\, Käthe-Kollwitz-Straße 7\, Chemnitz\, Sachsen\, 09111\, Germany
END:VEVENT
END:VCALENDAR