BEGIN:VCALENDAR
VERSION:2.0
PRODID:-//Tea Trifković - ECPv5.3.0//NONSGML v1.0//EN
CALSCALE:GREGORIAN
METHOD:PUBLISH
X-WR-CALNAME:Tea Trifković
X-ORIGINAL-URL:https://teatrifkovic.com
X-WR-CALDESC:Events for Tea Trifković
BEGIN:VTIMEZONE
TZID:Europe/Zagreb
BEGIN:DAYLIGHT
TZOFFSETFROM:+0100
TZOFFSETTO:+0200
TZNAME:CEST
DTSTART:20260329T010000
END:DAYLIGHT
BEGIN:STANDARD
TZOFFSETFROM:+0200
TZOFFSETTO:+0100
TZNAME:CET
DTSTART:20261025T010000
END:STANDARD
END:VTIMEZONE
BEGIN:VEVENT
DTSTART;TZID=Europe/Zagreb:20260516T193000
DTEND;TZID=Europe/Zagreb:20260516T220000
DTSTAMP:20260423T172224
CREATED:20251212T110051Z
LAST-MODIFIED:20251223T114011Z
UID:914-1778959800-1778968800@teatrifkovic.com
SUMMARY:Hoffmanns Erzählungen (Olympia)
DESCRIPTION:Fantastische Oper von Jacques Offenbach\nLibretto von Jules Barbier nach dem gleichnamigen Drama von Jules Barbier und Michel Carré
URL:https://teatrifkovic.com/event/hoffmanns-erzahlungen-olympia-3/
LOCATION:Die Theater Chemnitz\, Käthe-Kollwitz-Straße 7\, Chemnitz\, Sachsen\, 09111\, Germany
END:VEVENT
END:VCALENDAR